Package: transformGamPoi Version: 1.14.0 Command: chmod a+r transformGamPoi -R && E:\biocbuild\bbs-3.21-bioc\R\bin\R.exe CMD build --keep-empty-dirs --no-resave-data transformGamPoi StartedAt: 2025-08-14 22:47:01 -0400 (Thu, 14 Aug 2025) EndedAt: 2025-08-14 22:48:16 -0400 (Thu, 14 Aug 2025) EllapsedTime: 75.0 seconds RetCode: 0 Status: OK PackageFile: transformGamPoi_1.14.0.tar.gz PackageFileSize: 403.4 KiB