Package: transformGamPoi Version: 1.14.0 Command: /Library/Frameworks/R.framework/Resources/bin/R CMD check --install=check:transformGamPoi.install-out.txt --library=/Library/Frameworks/R.framework/Resources/library --no-vignettes --timings transformGamPoi_1.14.0.tar.gz StartedAt: 2025-10-14 11:48:17 -0400 (Tue, 14 Oct 2025) EndedAt: 2025-10-14 11:52:02 -0400 (Tue, 14 Oct 2025) EllapsedTime: 224.4 seconds RetCode: 0 Status: OK CheckDir: transformGamPoi.Rcheck Warnings: 0