Package: transformGamPoi Version: 1.14.0 Command: /Library/Frameworks/R.framework/Resources/bin/R CMD check --install=check:transformGamPoi.install-out.txt --library=/Library/Frameworks/R.framework/Resources/library --no-vignettes --timings transformGamPoi_1.14.0.tar.gz StartedAt: 2025-04-22 00:09:50 -0400 (Tue, 22 Apr 2025) EndedAt: 2025-04-22 00:12:03 -0400 (Tue, 22 Apr 2025) EllapsedTime: 133.3 seconds RetCode: 0 Status: OK CheckDir: transformGamPoi.Rcheck Warnings: 0