Package: transformGamPoi Version: 1.14.0 Command: /home/biocbuild/R/R/bin/R CMD check --install=check:transformGamPoi.install-out.txt --library=/home/biocbuild/R/R/site-library --no-vignettes --timings transformGamPoi_1.14.0.tar.gz StartedAt: 2025-10-10 14:59:52 -0000 (Fri, 10 Oct 2025) EndedAt: 2025-10-10 15:02:54 -0000 (Fri, 10 Oct 2025) EllapsedTime: 182.3 seconds RetCode: 0 Status: OK CheckDir: transformGamPoi.Rcheck Warnings: 0