Package: transcriptogramer Version: 1.30.0 Command: /Library/Frameworks/R.framework/Resources/bin/R CMD build --keep-empty-dirs --no-resave-data transcriptogramer StartedAt: 2025-10-13 23:19:32 -0400 (Mon, 13 Oct 2025) EndedAt: 2025-10-13 23:45:19 -0400 (Mon, 13 Oct 2025) EllapsedTime: 1546.8 seconds RetCode: 0 Status: OK PackageFile: transcriptogramer_1.30.0.tar.gz PackageFileSize: 3.63 MiB