Package: transcriptogramer Version: 1.30.0 Command: /home/biocbuild/R/R/bin/R CMD build --keep-empty-dirs --no-resave-data transcriptogramer StartedAt: 2025-10-14 05:28:10 -0000 (Tue, 14 Oct 2025) EndedAt: 2025-10-14 05:48:35 -0000 (Tue, 14 Oct 2025) EllapsedTime: 1225.1 seconds RetCode: 0 Status: OK PackageFile: transcriptogramer_1.30.0.tar.gz PackageFileSize: 3.656 MiB