Package: transcriptogramer Version: 1.30.0 Command: /Library/Frameworks/R.framework/Resources/bin/R CMD INSTALL transcriptogramer StartedAt: 2025-10-13 17:39:13 -0400 (Mon, 13 Oct 2025) EndedAt: 2025-10-13 17:39:45 -0400 (Mon, 13 Oct 2025) EllapsedTime: 31.4 seconds RetCode: 0 Status: OK