Package: transcriptogramer Version: 1.30.0 Command: rm -rf transcriptogramer.buildbin-libdir && mkdir transcriptogramer.buildbin-libdir && /Users/biocbuild/BBS/utils/build-universal.sh transcriptogramer_1.30.0.tar.gz /Library/Frameworks/R.framework/Resources/bin/R transcriptogramer.buildbin-libdir StartedAt: 2025-10-15 20:53:30 -0400 (Wed, 15 Oct 2025) EndedAt: 2025-10-15 20:54:06 -0400 (Wed, 15 Oct 2025) EllapsedTime: 35.5 seconds RetCode: 0 Status: OK PackageFile: transcriptogramer_1.30.0.tgz PackageFileSize: 5.451 MiB