Package: tradeSeq Version: 1.21.0 Command: rm -rf tradeSeq.buildbin-libdir && mkdir tradeSeq.buildbin-libdir && E:\biocbuild\bbs-3.21-bioc\R\bin\R.exe CMD INSTALL --build --library=tradeSeq.buildbin-libdir tradeSeq_1.21.0.tar.gz StartedAt: 2025-04-10 09:27:17 -0400 (Thu, 10 Apr 2025) EndedAt: 2025-04-10 09:28:07 -0400 (Thu, 10 Apr 2025) EllapsedTime: 50.2 seconds RetCode: 0 Status: OK PackageFile: tradeSeq_1.21.0.zip PackageFileSize: 2.462 MiB