Package: tradeSeq Version: 1.22.0 Command: /home/biocbuild/bbs-3.21-bioc/R/bin/R CMD build --keep-empty-dirs --no-resave-data tradeSeq StartedAt: 2025-10-15 20:21:41 -0400 (Wed, 15 Oct 2025) EndedAt: 2025-10-15 20:28:25 -0400 (Wed, 15 Oct 2025) EllapsedTime: 404.4 seconds RetCode: 0 Status: OK PackageFile: tradeSeq_1.22.0.tar.gz PackageFileSize: 5.161 MiB