Package: tracktables Version: 1.42.0 Command: /home/biocbuild/bbs-3.21-bioc/R/bin/R CMD build --keep-empty-dirs --no-resave-data tracktables StartedAt: 2025-10-01 20:25:56 -0400 (Wed, 01 Oct 2025) EndedAt: 2025-10-01 20:26:18 -0400 (Wed, 01 Oct 2025) EllapsedTime: 22.1 seconds RetCode: 0 Status: OK PackageFile: tracktables_1.42.0.tar.gz PackageFileSize: 355.7 KiB