Package: trackViewer Version: 1.44.0 Command: E:\biocbuild\bbs-3.21-bioc\R\bin\R.exe CMD check --no-multiarch --install=check:trackViewer.install-out.txt --library=E:\biocbuild\bbs-3.21-bioc\R\library --no-vignettes --timings trackViewer_1.44.0.tar.gz StartedAt: 2025-08-15 07:56:06 -0400 (Fri, 15 Aug 2025) EndedAt: 2025-08-15 08:06:35 -0400 (Fri, 15 Aug 2025) EllapsedTime: 628.8 seconds RetCode: 0 Status: OK CheckDir: trackViewer.Rcheck Warnings: 0