Package: trackViewer Version: 1.44.0 Command: chmod a+r trackViewer -R && E:\biocbuild\bbs-3.21-bioc\R\bin\R.exe CMD build --keep-empty-dirs --no-resave-data trackViewer StartedAt: 2025-08-14 22:45:55 -0400 (Thu, 14 Aug 2025) EndedAt: 2025-08-14 22:59:36 -0400 (Thu, 14 Aug 2025) EllapsedTime: 820.5 seconds RetCode: 0 Status: OK PackageFile: trackViewer_1.44.0.tar.gz PackageFileSize: 5.535 MiB