Package: trackViewer Version: 1.44.0 Command: rm -rf trackViewer.buildbin-libdir && mkdir trackViewer.buildbin-libdir && E:\biocbuild\bbs-3.21-bioc\R\bin\R.exe CMD INSTALL --build --library=trackViewer.buildbin-libdir trackViewer_1.44.0.tar.gz StartedAt: 2025-08-15 10:30:26 -0400 (Fri, 15 Aug 2025) EndedAt: 2025-08-15 10:32:12 -0400 (Fri, 15 Aug 2025) EllapsedTime: 105.4 seconds RetCode: 0 Status: OK PackageFile: trackViewer_1.44.0.zip PackageFileSize: 6.292 MiB