Package: trackViewer Version: 1.44.0 Command: /home/biocbuild/R/R/bin/R CMD INSTALL trackViewer StartedAt: 2025-10-13 21:03:00 -0000 (Mon, 13 Oct 2025) EndedAt: 2025-10-13 21:04:27 -0000 (Mon, 13 Oct 2025) EllapsedTime: 86.6 seconds RetCode: 0 Status: OK