Package: trackViewer Version: 1.44.0 Command: /home/biocbuild/R/R/bin/R CMD check --install=check:trackViewer.install-out.txt --library=/home/biocbuild/R/R/site-library --no-vignettes --timings trackViewer_1.44.0.tar.gz StartedAt: 2025-10-10 14:58:05 -0000 (Fri, 10 Oct 2025) EndedAt: 2025-10-10 15:09:30 -0000 (Fri, 10 Oct 2025) EllapsedTime: 685.0 seconds RetCode: 0 Status: OK CheckDir: trackViewer.Rcheck Warnings: 0