Package: tpSVG Version: 1.4.0 Command: rm -rf tpSVG.buildbin-libdir && mkdir tpSVG.buildbin-libdir && E:\biocbuild\bbs-3.21-bioc\R\bin\R.exe CMD INSTALL --build --library=tpSVG.buildbin-libdir tpSVG_1.4.0.tar.gz StartedAt: 2025-08-15 10:30:22 -0400 (Fri, 15 Aug 2025) EndedAt: 2025-08-15 10:30:51 -0400 (Fri, 15 Aug 2025) EllapsedTime: 28.5 seconds RetCode: 0 Status: OK PackageFile: tpSVG_1.4.0.zip PackageFileSize: 1.245 MiB