Package: tpSVG Version: 1.4.0 Command: /Library/Frameworks/R.framework/Resources/bin/R CMD INSTALL tpSVG StartedAt: 2025-10-13 15:39:13 -0400 (Mon, 13 Oct 2025) EndedAt: 2025-10-13 15:40:03 -0400 (Mon, 13 Oct 2025) EllapsedTime: 50.0 seconds RetCode: 0 Status: OK