Package: tpSVG Version: 1.4.0 Command: /Library/Frameworks/R.framework/Resources/bin/R CMD build --keep-empty-dirs --no-resave-data tpSVG StartedAt: 2025-10-13 23:18:15 -0400 (Mon, 13 Oct 2025) EndedAt: 2025-10-13 23:20:59 -0400 (Mon, 13 Oct 2025) EllapsedTime: 164.3 seconds RetCode: 0 Status: OK PackageFile: tpSVG_1.4.0.tar.gz PackageFileSize: 1.237 MiB