Package: tpSVG Version: 1.4.0 Command: rm -rf tpSVG.buildbin-libdir && mkdir tpSVG.buildbin-libdir && /Users/biocbuild/BBS/utils/build-universal.sh tpSVG_1.4.0.tar.gz /Library/Frameworks/R.framework/Resources/bin/R tpSVG.buildbin-libdir StartedAt: 2025-10-14 14:59:02 -0400 (Tue, 14 Oct 2025) EndedAt: 2025-10-14 15:00:00 -0400 (Tue, 14 Oct 2025) EllapsedTime: 58.2 seconds RetCode: 0 Status: OK PackageFile: tpSVG_1.4.0.tgz PackageFileSize: 1.241 MiB