Package: tpSVG Version: 1.4.0 Command: /home/biocbuild/R/R/bin/R CMD INSTALL tpSVG StartedAt: 2025-10-13 20:34:43 -0000 (Mon, 13 Oct 2025) EndedAt: 2025-10-13 20:35:16 -0000 (Mon, 13 Oct 2025) EllapsedTime: 33.1 seconds RetCode: 0 Status: OK