Package: tpSVG Version: 1.4.0 Command: /home/biocbuild/R/R/bin/R CMD build --keep-empty-dirs --no-resave-data tpSVG StartedAt: 2025-10-14 05:27:46 -0000 (Tue, 14 Oct 2025) EndedAt: 2025-10-14 05:30:04 -0000 (Tue, 14 Oct 2025) EllapsedTime: 138.1 seconds RetCode: 0 Status: OK PackageFile: tpSVG_1.4.0.tar.gz PackageFileSize: 1.259 MiB