Package: tpSVG Version: 1.4.0 Command: /Library/Frameworks/R.framework/Resources/bin/R CMD INSTALL tpSVG StartedAt: 2025-10-13 16:24:23 -0400 (Mon, 13 Oct 2025) EndedAt: 2025-10-13 16:24:52 -0400 (Mon, 13 Oct 2025) EllapsedTime: 28.3 seconds RetCode: 0 Status: OK