Package: tpSVG Version: 1.4.0 Command: /Library/Frameworks/R.framework/Resources/bin/R CMD check --install=check:tpSVG.install-out.txt --library=/Library/Frameworks/R.framework/Resources/library --no-vignettes --timings tpSVG_1.4.0.tar.gz StartedAt: 2025-10-15 15:39:23 -0400 (Wed, 15 Oct 2025) EndedAt: 2025-10-15 15:43:37 -0400 (Wed, 15 Oct 2025) EllapsedTime: 254.2 seconds RetCode: 0 Status: OK CheckDir: tpSVG.Rcheck Warnings: 0