Package: tpSVG Version: 1.4.0 Command: /Library/Frameworks/R.framework/Resources/bin/R CMD build --keep-empty-dirs --no-resave-data tpSVG StartedAt: 2025-10-14 11:13:45 -0400 (Tue, 14 Oct 2025) EndedAt: 2025-10-14 11:15:58 -0400 (Tue, 14 Oct 2025) EllapsedTime: 132.4 seconds RetCode: 0 Status: OK PackageFile: tpSVG_1.4.0.tar.gz PackageFileSize: 1.237 MiB