Package: tpSVG Version: 1.4.0 Command: rm -rf tpSVG.buildbin-libdir && mkdir tpSVG.buildbin-libdir && /Users/biocbuild/BBS/utils/build-universal.sh tpSVG_1.4.0.tar.gz /Library/Frameworks/R.framework/Resources/bin/R tpSVG.buildbin-libdir StartedAt: 2025-10-15 20:52:58 -0400 (Wed, 15 Oct 2025) EndedAt: 2025-10-15 20:53:30 -0400 (Wed, 15 Oct 2025) EllapsedTime: 32.4 seconds RetCode: 0 Status: OK PackageFile: tpSVG_1.4.0.tgz PackageFileSize: 1.241 MiB