Package: topdownr Version: 1.30.0 Command: rm -rf topdownr.buildbin-libdir && mkdir topdownr.buildbin-libdir && E:\biocbuild\bbs-3.21-bioc\R\bin\R.exe CMD INSTALL --build --library=topdownr.buildbin-libdir topdownr_1.30.0.tar.gz StartedAt: 2025-08-15 10:30:12 -0400 (Fri, 15 Aug 2025) EndedAt: 2025-08-15 10:31:55 -0400 (Fri, 15 Aug 2025) EllapsedTime: 102.6 seconds RetCode: 0 Status: OK PackageFile: topdownr_1.30.0.zip PackageFileSize: 2.102 MiB