Package: topdownr Version: 1.30.0 Command: rm -rf topdownr.buildbin-libdir && mkdir topdownr.buildbin-libdir && /Users/biocbuild/BBS/utils/build-universal.sh topdownr_1.30.0.tar.gz /Library/Frameworks/R.framework/Resources/bin/R topdownr.buildbin-libdir StartedAt: 2025-10-14 14:58:54 -0400 (Tue, 14 Oct 2025) EndedAt: 2025-10-14 15:00:46 -0400 (Tue, 14 Oct 2025) EllapsedTime: 112.1 seconds RetCode: 0 Status: OK PackageFile: topdownr_1.30.0.tgz PackageFileSize: 2.375 MiB