Package: topdownr Version: 1.30.0 Command: /Library/Frameworks/R.framework/Resources/bin/R CMD build --keep-empty-dirs --no-resave-data topdownr StartedAt: 2025-10-14 11:11:11 -0400 (Tue, 14 Oct 2025) EndedAt: 2025-10-14 11:13:03 -0400 (Tue, 14 Oct 2025) EllapsedTime: 112.3 seconds RetCode: 0 Status: OK PackageFile: topdownr_1.30.0.tar.gz PackageFileSize: 1.577 MiB