Package: topconfects Version: 1.24.0 Command: E:\biocbuild\bbs-3.21-bioc\R\bin\R.exe CMD INSTALL topconfects StartedAt: 2025-08-14 15:27:39 -0400 (Thu, 14 Aug 2025) EndedAt: 2025-08-14 15:28:24 -0400 (Thu, 14 Aug 2025) EllapsedTime: 44.7 seconds RetCode: 0 Status: OK