Package: topconfects Version: 1.24.0 Command: E:\biocbuild\bbs-3.21-bioc\R\bin\R.exe CMD check --no-multiarch --install=check:topconfects.install-out.txt --library=E:\biocbuild\bbs-3.21-bioc\R\library --no-vignettes --timings topconfects_1.24.0.tar.gz StartedAt: 2025-08-15 07:54:53 -0400 (Fri, 15 Aug 2025) EndedAt: 2025-08-15 07:56:41 -0400 (Fri, 15 Aug 2025) EllapsedTime: 107.9 seconds RetCode: 0 Status: OK CheckDir: topconfects.Rcheck Warnings: 0