Package: topconfects Version: 1.24.0 Command: /home/biocbuild/bbs-3.21-bioc/R/bin/R CMD INSTALL topconfects StartedAt: 2025-10-05 15:07:44 -0400 (Sun, 05 Oct 2025) EndedAt: 2025-10-05 15:08:11 -0400 (Sun, 05 Oct 2025) EllapsedTime: 26.9 seconds RetCode: 0 Status: OK