Package: topconfects Version: 1.24.0 Command: /home/biocbuild/bbs-3.21-bioc/R/bin/R CMD build --keep-empty-dirs --no-resave-data topconfects StartedAt: 2025-10-05 20:22:07 -0400 (Sun, 05 Oct 2025) EndedAt: 2025-10-05 20:24:07 -0400 (Sun, 05 Oct 2025) EllapsedTime: 120.2 seconds RetCode: 0 Status: OK PackageFile: topconfects_1.24.0.tar.gz PackageFileSize: 3.599 MiB