Package: topconfects Version: 1.24.0 Command: /Library/Frameworks/R.framework/Resources/bin/R CMD build --keep-empty-dirs --no-resave-data topconfects StartedAt: 2025-10-02 23:18:56 -0400 (Thu, 02 Oct 2025) EndedAt: 2025-10-02 23:23:10 -0400 (Thu, 02 Oct 2025) EllapsedTime: 253.4 seconds RetCode: 0 Status: OK PackageFile: topconfects_1.24.0.tar.gz PackageFileSize: 2.544 MiB