Package: topconfects Version: 1.24.0 Command: rm -rf topconfects.buildbin-libdir && mkdir topconfects.buildbin-libdir && /Users/biocbuild/BBS/utils/build-universal.sh topconfects_1.24.0.tar.gz /Library/Frameworks/R.framework/Resources/bin/R topconfects.buildbin-libdir StartedAt: 2025-10-03 14:47:10 -0400 (Fri, 03 Oct 2025) EndedAt: 2025-10-03 14:47:28 -0400 (Fri, 03 Oct 2025) EllapsedTime: 18.3 seconds RetCode: 0 Status: OK PackageFile: topconfects_1.24.0.tgz PackageFileSize: 2.701 MiB