Package: topconfects Version: 1.24.0 Command: /Library/Frameworks/R.framework/Resources/bin/R CMD check --install=check:topconfects.install-out.txt --library=/Library/Frameworks/R.framework/Resources/library --no-vignettes --timings topconfects_1.24.0.tar.gz StartedAt: 2025-04-22 00:08:33 -0400 (Tue, 22 Apr 2025) EndedAt: 2025-04-22 00:10:06 -0400 (Tue, 22 Apr 2025) EllapsedTime: 93.5 seconds RetCode: 0 Status: OK CheckDir: topconfects.Rcheck Warnings: 0