Package: topconfects Version: 1.24.0 Command: rm -rf topconfects.buildbin-libdir && mkdir topconfects.buildbin-libdir && /Users/biocbuild/BBS/utils/build-universal.sh topconfects_1.24.0.tar.gz /Library/Frameworks/R.framework/Resources/bin/R topconfects.buildbin-libdir StartedAt: 2025-04-22 01:13:45 -0400 (Tue, 22 Apr 2025) EndedAt: 2025-04-22 01:13:54 -0400 (Tue, 22 Apr 2025) EllapsedTime: 9.3 seconds RetCode: 0 Status: OK PackageFile: topconfects_1.24.0.tgz PackageFileSize: 2.676 MiB