Package: topconfects Version: 1.24.0 Command: /home/biocbuild/R/R/bin/R CMD build --keep-empty-dirs --no-resave-data topconfects StartedAt: 2025-10-03 05:21:16 -0000 (Fri, 03 Oct 2025) EndedAt: 2025-10-03 05:24:02 -0000 (Fri, 03 Oct 2025) EllapsedTime: 166.0 seconds RetCode: 0 Status: OK PackageFile: topconfects_1.24.0.tar.gz PackageFileSize: 2.16 MiB