Package: topGO Version: 2.60.1 Command: E:\biocbuild\bbs-3.21-bioc\R\bin\R.exe CMD check --no-multiarch --install=check:topGO.install-out.txt --library=E:\biocbuild\bbs-3.21-bioc\R\library --no-vignettes --timings topGO_2.60.1.tar.gz StartedAt: 2025-08-15 07:55:22 -0400 (Fri, 15 Aug 2025) EndedAt: 2025-08-15 07:58:14 -0400 (Fri, 15 Aug 2025) EllapsedTime: 172.3 seconds RetCode: 0 Status: WARNINGS CheckDir: topGO.Rcheck Warnings: 1