Package: topGO Version: 2.60.1 Command: /Library/Frameworks/R.framework/Resources/bin/R CMD check --install=check:topGO.install-out.txt --library=/Library/Frameworks/R.framework/Resources/library --no-vignettes --timings topGO_2.60.1.tar.gz StartedAt: 2025-10-14 11:45:07 -0400 (Tue, 14 Oct 2025) EndedAt: 2025-10-14 11:49:41 -0400 (Tue, 14 Oct 2025) EllapsedTime: 274.4 seconds RetCode: 0 Status: WARNINGS CheckDir: topGO.Rcheck Warnings: 1