Package: topGO Version: 2.60.1 Command: /Library/Frameworks/R.framework/Resources/bin/R CMD build --keep-empty-dirs --no-resave-data topGO StartedAt: 2025-10-13 23:17:53 -0400 (Mon, 13 Oct 2025) EndedAt: 2025-10-13 23:22:24 -0400 (Mon, 13 Oct 2025) EllapsedTime: 271.2 seconds RetCode: 0 Status: OK PackageFile: topGO_2.60.1.tar.gz PackageFileSize: 1.894 MiB