Package: topGO Version: 2.60.1 Command: rm -rf topGO.buildbin-libdir && mkdir topGO.buildbin-libdir && /Users/biocbuild/BBS/utils/build-universal.sh topGO_2.60.1.tar.gz /Library/Frameworks/R.framework/Resources/bin/R topGO.buildbin-libdir StartedAt: 2025-10-14 14:58:57 -0400 (Tue, 14 Oct 2025) EndedAt: 2025-10-14 14:59:49 -0400 (Tue, 14 Oct 2025) EllapsedTime: 51.9 seconds RetCode: 0 Status: OK PackageFile: topGO_2.60.1.tgz PackageFileSize: 2.144 MiB