Package: topGO Version: 2.60.1 Command: /home/biocbuild/R/R/bin/R CMD INSTALL topGO StartedAt: 2025-10-13 21:02:18 -0000 (Mon, 13 Oct 2025) EndedAt: 2025-10-13 21:02:46 -0000 (Mon, 13 Oct 2025) EllapsedTime: 27.5 seconds RetCode: 0 Status: OK