Package: topGO Version: 2.60.1 Command: /home/biocbuild/R/R/bin/R CMD build --keep-empty-dirs --no-resave-data topGO StartedAt: 2025-10-14 05:26:23 -0000 (Tue, 14 Oct 2025) EndedAt: 2025-10-14 05:29:15 -0000 (Tue, 14 Oct 2025) EllapsedTime: 171.1 seconds RetCode: 0 Status: OK PackageFile: topGO_2.60.1.tar.gz PackageFileSize: 1.888 MiB