Package: tomoda Version: 1.18.0 Command: /home/biocbuild/bbs-3.21-bioc/R/bin/R CMD build --keep-empty-dirs --no-resave-data tomoda StartedAt: 2025-10-15 20:20:15 -0400 (Wed, 15 Oct 2025) EndedAt: 2025-10-15 20:21:39 -0400 (Wed, 15 Oct 2025) EllapsedTime: 84.1 seconds RetCode: 0 Status: OK PackageFile: tomoda_1.18.0.tar.gz PackageFileSize: 2.857 MiB