Package: tomoda Version: 1.18.0 Command: /Library/Frameworks/R.framework/Resources/bin/R CMD INSTALL tomoda StartedAt: 2025-04-21 15:28:36 -0400 (Mon, 21 Apr 2025) EndedAt: 2025-04-21 15:29:07 -0400 (Mon, 21 Apr 2025) EllapsedTime: 31.0 seconds RetCode: 0 Status: OK