Package: tomoda Version: 1.18.0 Command: /Library/Frameworks/R.framework/Resources/bin/R CMD check --install=check:tomoda.install-out.txt --library=/Library/Frameworks/R.framework/Resources/library --no-vignettes --timings tomoda_1.18.0.tar.gz StartedAt: 2025-04-22 00:07:45 -0400 (Tue, 22 Apr 2025) EndedAt: 2025-04-22 00:14:18 -0400 (Tue, 22 Apr 2025) EllapsedTime: 393.7 seconds RetCode: 0 Status: OK CheckDir: tomoda.Rcheck Warnings: 0