Package: tomoda Version: 1.18.0 Command: /Library/Frameworks/R.framework/Resources/bin/R CMD build --keep-empty-dirs --no-resave-data tomoda StartedAt: 2025-04-21 18:44:37 -0400 (Mon, 21 Apr 2025) EndedAt: 2025-04-21 18:46:06 -0400 (Mon, 21 Apr 2025) EllapsedTime: 89.1 seconds RetCode: 0 Status: OK PackageFile: tomoda_1.18.0.tar.gz PackageFileSize: 2.905 MiB