Package: tomoda Version: 1.18.0 Command: /Library/Frameworks/R.framework/Resources/bin/R CMD check --install=check:tomoda.install-out.txt --library=/Library/Frameworks/R.framework/Resources/library --no-vignettes --timings tomoda_1.18.0.tar.gz StartedAt: 2025-04-21 22:08:00 -0400 (Mon, 21 Apr 2025) EndedAt: 2025-04-21 22:10:16 -0400 (Mon, 21 Apr 2025) EllapsedTime: 135.7 seconds RetCode: 0 Status: OK CheckDir: tomoda.Rcheck Warnings: 0