Package: tomoda Version: 1.18.0 Command: /Library/Frameworks/R.framework/Resources/bin/R CMD INSTALL tomoda StartedAt: 2025-10-13 17:00:35 -0400 (Mon, 13 Oct 2025) EndedAt: 2025-10-13 17:01:03 -0400 (Mon, 13 Oct 2025) EllapsedTime: 28.0 seconds RetCode: 0 Status: OK